BEGIN:VCALENDAR
VERSION:2.0
PRODID:-//She Runs It - ECPv6.15.18//NONSGML v1.0//EN
CALSCALE:GREGORIAN
METHOD:PUBLISH
X-WR-CALNAME:She Runs It
X-ORIGINAL-URL:https://sherunsit.org
X-WR-CALDESC:Events for She Runs It
REFRESH-INTERVAL;VALUE=DURATION:PT1H
X-Robots-Tag:noindex
X-PUBLISHED-TTL:PT1H
BEGIN:VTIMEZONE
TZID:America/Chicago
BEGIN:DAYLIGHT
TZOFFSETFROM:-0600
TZOFFSETTO:-0500
TZNAME:CDT
DTSTART:20250309T080000
END:DAYLIGHT
BEGIN:STANDARD
TZOFFSETFROM:-0500
TZOFFSETTO:-0600
TZNAME:CST
DTSTART:20251102T070000
END:STANDARD
BEGIN:DAYLIGHT
TZOFFSETFROM:-0600
TZOFFSETTO:-0500
TZNAME:CDT
DTSTART:20260308T080000
END:DAYLIGHT
BEGIN:STANDARD
TZOFFSETFROM:-0500
TZOFFSETTO:-0600
TZNAME:CST
DTSTART:20261101T070000
END:STANDARD
BEGIN:DAYLIGHT
TZOFFSETFROM:-0600
TZOFFSETTO:-0500
TZNAME:CDT
DTSTART:20270314T080000
END:DAYLIGHT
BEGIN:STANDARD
TZOFFSETFROM:-0500
TZOFFSETTO:-0600
TZNAME:CST
DTSTART:20271107T070000
END:STANDARD
END:VTIMEZONE
BEGIN:VTIMEZONE
TZID:America/New_York
BEGIN:DAYLIGHT
TZOFFSETFROM:-0500
TZOFFSETTO:-0400
TZNAME:EDT
DTSTART:20250309T070000
END:DAYLIGHT
BEGIN:STANDARD
TZOFFSETFROM:-0400
TZOFFSETTO:-0500
TZNAME:EST
DTSTART:20251102T060000
END:STANDARD
BEGIN:DAYLIGHT
TZOFFSETFROM:-0500
TZOFFSETTO:-0400
TZNAME:EDT
DTSTART:20260308T070000
END:DAYLIGHT
BEGIN:STANDARD
TZOFFSETFROM:-0400
TZOFFSETTO:-0500
TZNAME:EST
DTSTART:20261101T060000
END:STANDARD
BEGIN:DAYLIGHT
TZOFFSETFROM:-0500
TZOFFSETTO:-0400
TZNAME:EDT
DTSTART:20270314T070000
END:DAYLIGHT
BEGIN:STANDARD
TZOFFSETFROM:-0400
TZOFFSETTO:-0500
TZNAME:EST
DTSTART:20271107T060000
END:STANDARD
END:VTIMEZONE
BEGIN:VEVENT
DTSTART;TZID=America/Chicago:20260424T083000
DTEND;TZID=America/Chicago:20260424T103000
DTSTAMP:20260423T053506
CREATED:20260401T144417Z
LAST-MODIFIED:20260417T154735Z
UID:10001817-1777019400-1777026600@sherunsit.org
SUMMARY:Executive Class: Leadership Breakfast Club
DESCRIPTION:Join us for an Executive Class Leadership Breakfast: a relaxed and inspiring morning to exchange ideas\, build meaningful connections\, and spend time with a like-minded group of peers. \n\n\n\n \n\n\n\nWe’re lucky to have Laurel Malhotra and Dr. Veronica Appleton helping guide the conversation\, which will be shaped around the realities of our busy\, ever-evolving professional lives. \n\n\n\n \n\n\n\nFeel free to come with a current leadership challenge or opportunity on your mind\, or simply come ready to listen\, lean in\, share\, and connect as we navigate it all together. \n\n\n\n \n\n\n\nLooking forward to a thoughtful and energizing morning.
URL:https://sherunsit.org/event/executive-class-leadership-breakfast/
LOCATION:Beatrix Fulton Market\, 834 W. Fulton Market\, Chicago\, 60607\, United States
CATEGORIES:Chicago
ATTACH;FMTTYPE=image/png:https://d1ehf1fxdeep97.cloudfront.net/wp-content/uploads/2026/04/02123754/Copy-of-4.16.26-Exec-Class-Connects_Website.png
END:VEVENT
BEGIN:VEVENT
DTSTART;TZID=America/New_York:20260427T073000
DTEND;TZID=America/New_York:20260427T084500
DTSTAMP:20260423T053506
CREATED:20260325T142347Z
LAST-MODIFIED:20260409T174408Z
UID:10001810-1777275000-1777279500@sherunsit.org
SUMMARY:Everything is Possible: A Movement & Mindset Kickoff Breakfast @ POSSIBLE 2026
DESCRIPTION:Start your POSSIBLE experience grounded\, energized\, and ready for the week ahead at the Movement & Mindset Breakfast hosted by She Runs It. The morning begins with 20 minutes of guided movement led by a Nike Trainer and obé Fitness Strength + Sculpt Instructor\, Natalie DeGenova\, blending breathwork\, mobility\, stretching\, and optional higher-impact elements. All fitness levels are invited\, and workout clothes are optional. Following the movement segment\, you’ll hear from brand leaders and wellness advocates who treat well-being as a performance strategy\, sharing practical ways to build resilience\, protect energy\, and sustain focus and momentum throughout the conference and beyond. \n\n\n\n \n\n\n\nAgenda \n\n\n\n7:30am Breakfast opens 7:45am Guided Movement8:10am Panel Discussion8:40am Program concludes \n\n\n\n \n\n\n\nCo-Host\, Intention Setting & Wrap-UpAmanda LaRosa\, Accounts Director\, Programmatic Sales\, Wunderkind \n\n\n\n \n\n\n\nOpening RemarksJenna McSheffrey\, Account Director\, Retail\, Viant \n\n\n\n \n\n\n\nModeratorLynn Branigan\, President & CEO\, She Runs It \n\n\n\n \n\n\n\nSpeakersLindsay Dougherty\, Director of Global Brand Media\, WHOOPCaitlin McGlynn\, Head of Marketing\, DrizziliciousNicole Portwood\, Chief Marketing Officer\, Suja Life \n\n\n\n \n\n\n\n \n\n\n\nThe event is being held at the Eden Roc during POSSIBLE 2026. This session is included with your Possible conference registration. \n\n\n\nMEMBERS – To unlock your POSSIBLE discount code\, please sign in to your She Runs It member account.
URL:https://sherunsit.org/event/everything-is-possible-a-movement-mindset-kickoff-breakfast/
LOCATION:Eden Roc\, 4525 Collins Ave\, Miami Beach\, FL\, 33140\, United States
CATEGORIES:Miami
ATTACH;FMTTYPE=image/webp:https://d1ehf1fxdeep97.cloudfront.net/wp-content/uploads/2026/03/26171532/Possible26_web_600x400-1.webp
END:VEVENT
BEGIN:VEVENT
DTSTART;TZID=America/New_York:20260430T173000
DTEND;TZID=America/New_York:20260430T193000
DTSTAMP:20260423T053506
CREATED:20251217T161711Z
LAST-MODIFIED:20260415T164241Z
UID:10001783-1777570200-1777577400@sherunsit.org
SUMMARY:Hybrid Mentoring Kickoff NYC
DESCRIPTION:Join us for our She Runs It Mentoring Kickoff meeting. This is the time for newly paired mentors and mentees to learn more about their joint commitment to the 2026 Spring session mentoring program. You will “meet” She Runs It program leaders and members of the mentoring committee who will provide a roadmap that will help you make the most of your mentoring relationship. Lastly\, mentors and mentees from past programs will share their own experiences with the program and how they made their mentorship work \n\n\n\nPresentersNadia McDowell\, Senior Director\, Membership & Inclusive Community Programming\, She Runs ItErin Nesbitt\, Founder\, HR Advisor\, Collaboral Consulting\, LLC & Northeast Mentoring Committee Co-Chair \n\n\n\n \n\n\n\nModeratorSue Bortone\, Founder & CEO\, Noble Talent Group & Northeast Mentoring Committee Co-Chair \n\n\n\nPanelistsJanine Martella\, Career Coach\, J Martella Coaching and Consulting (Mentor)Alyssa Winderlich\, Global Events Manager\, DoubleVerify (Mentee)Jaqui Sabino\, Account Supervisor\, Biolumina (Mentee)Virginia Blanton\, Manager\, Integrated Marketing\, Paramount Brand Studio (Mentee) \n\n\n\nBritt Mitchell\, CEO & President\, Dream Bigger Now TODAY (Mentee) \n\n\n\nThis is an invitation-only event for those participating in the 2026 Spring Mentoring Program Session. \n\n\n\n \n\n\n\nCan’t make it in person? Mentoring Program Participants\, log in to stream for free!\n\n\n\nThe event will be streamed from 6:00pm ET. Learn how to stream here.
URL:https://sherunsit.org/event/hybrid-mentoring-kickoff-nyc/
LOCATION:Publicis Groupe\, 375 Hudson St.\, New York\, NY
CATEGORIES:New York City
ATTACH;FMTTYPE=image/webp:https://d1ehf1fxdeep97.cloudfront.net/wp-content/uploads/2025/12/17095652/Hybrid_Mentoring_Kickoff.webp
END:VEVENT
END:VCALENDAR